BEGIN:VCALENDAR
VERSION:2.0
PRODID:-//Aesthetic Training Center in Delhi, Aesthetic Courses in India: ILAMED - ECPv6.15.20//NONSGML v1.0//EN
CALSCALE:GREGORIAN
METHOD:PUBLISH
X-ORIGINAL-URL:https://www.ilamed.org
X-WR-CALDESC:Events for Aesthetic Training Center in Delhi, Aesthetic Courses in India: ILAMED
REFRESH-INTERVAL;VALUE=DURATION:PT1H
X-Robots-Tag:noindex
X-PUBLISHED-TTL:PT1H
BEGIN:VTIMEZONE
TZID:UTC
BEGIN:STANDARD
TZOFFSETFROM:+0000
TZOFFSETTO:+0000
TZNAME:UTC
DTSTART:20250101T000000
END:STANDARD
END:VTIMEZONE
BEGIN:VEVENT
DTSTART;VALUE=DATE:20260525
DTEND;VALUE=DATE:20260531
DTSTAMP:20260423T150210
CREATED:20260220T105835Z
LAST-MODIFIED:20260408T081114Z
UID:19723-1779667200-1780185599@www.ilamed.org
SUMMARY:International Diploma in Aesthetic Medicine - IDAM (Addis Ababa\, Ethiopia)
DESCRIPTION:The advances of clinical Aesthetic Medicine represents an important breakthrough in the development of medical sciences. Great technological developments have already taken place in this field and many are yet to occur. In parallel\, there is a growing interest from both the medical community and the patients\, who are looking for personalised aesthetic solutions. \nThe International Diploma in Aesthetic Medicine  by ILAMED equips students with the knowledge and expertise required to be experts in cosmetology treatments. \nILAMED follows world-class curricula and focuses on international guidelines to provide the latest training to students and make them highly competent medical professionals./p>\nQuick Enquiry
URL:https://www.ilamed.org/singal-course-calendar/international-diploma-in-aesthetic-medicine-idam-addis-ababa-ethiopia/
CATEGORIES:Aesthetic Medicine
ATTACH;FMTTYPE=image/jpeg:https://www.ilamed.org/wp-content/uploads/2023/02/kenya-img2-ilamed-2024.jpg
END:VEVENT
BEGIN:VEVENT
DTSTART;VALUE=DATE:20260528
DTEND;VALUE=DATE:20260531
DTSTAMP:20260423T150210
CREATED:20251124T121812Z
LAST-MODIFIED:20260409T123241Z
UID:19539-1779926400-1780185599@www.ilamed.org
SUMMARY:Masters Injector Program - MIP (Addis Ababa\, Ethiopia)
DESCRIPTION:There is a growing international demand for Aesthetic & Anti-Aging Medicine trained professionals.Through this course they will gain clinical knowledge to cater to the patients needs more effectively. The knowledge gained will bridge those gaps to reduce complications and improve clinical outcome leading to better patient care. \nQuick Enquiry
URL:https://www.ilamed.org/singal-course-calendar/masters-injector-program-mip-addis-ababa-ethiopia/
CATEGORIES:Aesthetic Medicine
ATTACH;FMTTYPE=image/jpeg:https://www.ilamed.org/wp-content/uploads/2023/02/kenya-img1-ilamed-2024.jpg
END:VEVENT
END:VCALENDAR