BEGIN:VCALENDAR
VERSION:2.0
PRODID:-//Aesthetic Training Center in Delhi, Aesthetic Courses in India: ILAMED - ECPv6.15.20//NONSGML v1.0//EN
CALSCALE:GREGORIAN
METHOD:PUBLISH
X-WR-CALNAME:Aesthetic Training Center in Delhi, Aesthetic Courses in India: ILAMED
X-ORIGINAL-URL:https://www.ilamed.org
X-WR-CALDESC:Events for Aesthetic Training Center in Delhi, Aesthetic Courses in India: ILAMED
REFRESH-INTERVAL;VALUE=DURATION:PT1H
X-Robots-Tag:noindex
X-PUBLISHED-TTL:PT1H
BEGIN:VTIMEZONE
TZID:UTC
BEGIN:STANDARD
TZOFFSETFROM:+0000
TZOFFSETTO:+0000
TZNAME:UTC
DTSTART:20250101T000000
END:STANDARD
END:VTIMEZONE
BEGIN:VEVENT
DTSTART;VALUE=DATE:20260513
DTEND;VALUE=DATE:20260523
DTSTAMP:20260423T144221
CREATED:20251231T061216Z
LAST-MODIFIED:20260408T080550Z
UID:19613-1778630400-1779494399@www.ilamed.org
SUMMARY:Fellowship in Aesthetic Medicine - FAM (Mumbai)
DESCRIPTION:ILAMED’s Fellowship in Aesthetic Medicine (FAM) is one of its kind extensive but compressed programme in the World which not only covers all the topics from basics to advanced in aesthetic medicine but also gives an intensive hands-on on each topic. This exhaustive fellowship prepares physicians to immediately enter the practice of aesthetic medicine and make a name in this most demanding field of medicine with a boom. Any registered medical doctor or medical specialist can take this programme and attend classes in any of the major cities of the country. This is the one program in aesthetic medicine in the World which has been successfully pursued by a number of doctors world-wide. \nFellowship in Aesthetic Medicine (FAM) is a six months program. The world needs more and more specialists in this domain and this course is suitable for Medical professionals who want to expand their arena of knowledge and gather specialization and training in treating skin related cosmetic disorders. \nQuick Enquiry
URL:https://www.ilamed.org/singal-course-calendar/fellowship-in-aesthetic-medicine-fam-mumbai/
CATEGORIES:Aesthetic Medicine
ATTACH;FMTTYPE=image/jpeg:https://www.ilamed.org/wp-content/uploads/2023/01/mumbai-img2-ilamed-2023.jpg
END:VEVENT
BEGIN:VEVENT
DTSTART;VALUE=DATE:20260513
DTEND;VALUE=DATE:20260523
DTSTAMP:20260423T144221
CREATED:20260408T070019Z
LAST-MODIFIED:20260408T081053Z
UID:19967-1778630400-1779494399@www.ilamed.org
SUMMARY:Fellowship in Aesthetic Medicine - FAM (Chandigarh)
DESCRIPTION:ILAMED’s Fellowship in Aesthetic Medicine (FAM) is one of its kind extensive but compressed programme in the World which not only covers all the topics from basics to advanced in aesthetic medicine but also gives an intensive hands-on on each topic. This exhaustive fellowship prepares physicians to immediately enter the practice of aesthetic medicine and make a name in this most demanding field of medicine with a boom. Any registered medical doctor or medical specialist can take this programme and attend classes in any of the major cities of the country. This is the one program in aesthetic medicine in the World which has been successfully pursued by a number of doctors world-wide. \nFellowship in Aesthetic Medicine (FAM) is a six months program. The world needs more and more specialists in this domain and this course is suitable for Medical professionals who want to expand their arena of knowledge and gather specialization and training in treating skin related cosmetic disorders. \nQuick Enquiry
URL:https://www.ilamed.org/singal-course-calendar/fellowship-in-aesthetic-medicine-fam-chandigarh/
CATEGORIES:Aesthetic Medicine
ATTACH;FMTTYPE=image/jpeg:https://www.ilamed.org/wp-content/uploads/2023/01/chandigarh-img3-ilamed-2023.jpg
END:VEVENT
END:VCALENDAR